BEGIN:VCALENDAR
VERSION:2.0
PRODID:-//Gartenfreunde Ehningen e.V. - ECPv6.15.20//NONSGML v1.0//EN
CALSCALE:GREGORIAN
METHOD:PUBLISH
X-ORIGINAL-URL:https://die-gartenfreunde-ehningen.de
X-WR-CALDESC:Veranstaltungen für Gartenfreunde Ehningen e.V.
REFRESH-INTERVAL;VALUE=DURATION:PT1H
X-Robots-Tag:noindex
X-PUBLISHED-TTL:PT1H
BEGIN:VTIMEZONE
TZID:Europe/Berlin
BEGIN:DAYLIGHT
TZOFFSETFROM:+0100
TZOFFSETTO:+0200
TZNAME:CEST
DTSTART:20250330T010000
END:DAYLIGHT
BEGIN:STANDARD
TZOFFSETFROM:+0200
TZOFFSETTO:+0100
TZNAME:CET
DTSTART:20251026T010000
END:STANDARD
BEGIN:DAYLIGHT
TZOFFSETFROM:+0100
TZOFFSETTO:+0200
TZNAME:CEST
DTSTART:20260329T010000
END:DAYLIGHT
BEGIN:STANDARD
TZOFFSETFROM:+0200
TZOFFSETTO:+0100
TZNAME:CET
DTSTART:20261025T010000
END:STANDARD
BEGIN:DAYLIGHT
TZOFFSETFROM:+0100
TZOFFSETTO:+0200
TZNAME:CEST
DTSTART:20270328T010000
END:DAYLIGHT
BEGIN:STANDARD
TZOFFSETFROM:+0200
TZOFFSETTO:+0100
TZNAME:CET
DTSTART:20271031T010000
END:STANDARD
END:VTIMEZONE
BEGIN:VEVENT
DTSTART;TZID=Europe/Berlin:20260701T143000
DTEND;TZID=Europe/Berlin:20260701T170000
DTSTAMP:20260420T110553
CREATED:20260222T174501Z
LAST-MODIFIED:20260406T113601Z
UID:2960-1782916200-1782925200@die-gartenfreunde-ehningen.de
SUMMARY:☕Begegnungskaffee 1. Juli
DESCRIPTION:
URL:https://die-gartenfreunde-ehningen.de/event/begegnungskaffee-1-juli/
LOCATION:Begegnungsstätte\, Bühlallee 11\, Ehningen
CATEGORIES:Kaffee
END:VEVENT
BEGIN:VEVENT
DTSTART;TZID=Europe/Berlin:20260711T080000
DTEND;TZID=Europe/Berlin:20260711T120000
DTSTAMP:20260420T110553
CREATED:20260222T173827Z
LAST-MODIFIED:20260406T113438Z
UID:2956-1783756800-1783771200@die-gartenfreunde-ehningen.de
SUMMARY:🧑‍🌾Gemeinschaftsarbeit 2026
DESCRIPTION:Voranmeldung beim Obmann erforderlich.
URL:https://die-gartenfreunde-ehningen.de/event/gemeinschaftsarbeit-2026-4/
LOCATION:Vereinsheim der Gartenfreunde\, Hinteres Tal 1\, Ehningen\, 71139\, Deutschland
CATEGORIES:Gemeinschaftsarbeit
END:VEVENT
END:VCALENDAR