BEGIN:VCALENDAR
VERSION:2.0
PRODID:-//Gartenfreunde Ehningen e.V. - ECPv6.15.20//NONSGML v1.0//EN
CALSCALE:GREGORIAN
METHOD:PUBLISH
X-ORIGINAL-URL:https://die-gartenfreunde-ehningen.de
X-WR-CALDESC:Veranstaltungen für Gartenfreunde Ehningen e.V.
REFRESH-INTERVAL;VALUE=DURATION:PT1H
X-Robots-Tag:noindex
X-PUBLISHED-TTL:PT1H
BEGIN:VTIMEZONE
TZID:Europe/Berlin
BEGIN:DAYLIGHT
TZOFFSETFROM:+0100
TZOFFSETTO:+0200
TZNAME:CEST
DTSTART:20240331T010000
END:DAYLIGHT
BEGIN:STANDARD
TZOFFSETFROM:+0200
TZOFFSETTO:+0100
TZNAME:CET
DTSTART:20241027T010000
END:STANDARD
BEGIN:DAYLIGHT
TZOFFSETFROM:+0100
TZOFFSETTO:+0200
TZNAME:CEST
DTSTART:20250330T010000
END:DAYLIGHT
BEGIN:STANDARD
TZOFFSETFROM:+0200
TZOFFSETTO:+0100
TZNAME:CET
DTSTART:20251026T010000
END:STANDARD
BEGIN:DAYLIGHT
TZOFFSETFROM:+0100
TZOFFSETTO:+0200
TZNAME:CEST
DTSTART:20260329T010000
END:DAYLIGHT
BEGIN:STANDARD
TZOFFSETFROM:+0200
TZOFFSETTO:+0100
TZNAME:CET
DTSTART:20261025T010000
END:STANDARD
END:VTIMEZONE
BEGIN:VEVENT
DTSTART;TZID=Europe/Berlin:20251001T130000
DTEND;TZID=Europe/Berlin:20251001T180000
DTSTAMP:20260420T154918
CREATED:20250118T193432Z
LAST-MODIFIED:20250118T193432Z
UID:2090-1759323600-1759341600@die-gartenfreunde-ehningen.de
SUMMARY:Begegnungskaffee
DESCRIPTION:Begegnungs Kaffee Die Termine sind am Mittwoch von 13.00-18.00 Uhr \nAm Tag davor werden die Tische und Stühle gerichtet von 18:00-19:00 Uhr. \n 
URL:https://die-gartenfreunde-ehningen.de/event/begegnungskaffee-7/
CATEGORIES:Kaffee
END:VEVENT
BEGIN:VEVENT
DTSTART;TZID=Europe/Berlin:20251004T080000
DTEND;TZID=Europe/Berlin:20251004T120000
DTSTAMP:20260420T154918
CREATED:20250215T170629Z
LAST-MODIFIED:20250911T194926Z
UID:2119-1759564800-1759579200@die-gartenfreunde-ehningen.de
SUMMARY:Gemeinschaftsarbeit
DESCRIPTION:
URL:https://die-gartenfreunde-ehningen.de/event/gemeinschaftsarbeit-20/
LOCATION:Vereinsheim der Gartenfreunde\, Hinteres Tal 1\, Ehningen\, 71139\, Deutschland
CATEGORIES:Gemeinschaftsarbeit
END:VEVENT
BEGIN:VEVENT
DTSTART;TZID=Europe/Berlin:20251025T150000
DTEND;TZID=Europe/Berlin:20251025T200000
DTSTAMP:20260420T154918
CREATED:20250310T205946Z
LAST-MODIFIED:20250310T210140Z
UID:2147-1761404400-1761422400@die-gartenfreunde-ehningen.de
SUMMARY:Seniorenfeier
DESCRIPTION:Seniorenfeier 25 Oktober 15 Uhr Vereinsheim der Gartenfreunde \nInformationen folgen
URL:https://die-gartenfreunde-ehningen.de/event/seniorenfeier/
LOCATION:Vereinsheim der Gartenfreunde\, Hinteres Tal 1\, Ehningen\, 71139\, Deutschland
CATEGORIES:Feier
END:VEVENT
END:VCALENDAR