BEGIN:VCALENDAR
VERSION:2.0
PRODID:-//Gartenfreunde Ehningen e.V. - ECPv6.15.20//NONSGML v1.0//EN
CALSCALE:GREGORIAN
METHOD:PUBLISH
X-ORIGINAL-URL:https://die-gartenfreunde-ehningen.de
X-WR-CALDESC:Veranstaltungen für Gartenfreunde Ehningen e.V.
REFRESH-INTERVAL;VALUE=DURATION:PT1H
X-Robots-Tag:noindex
X-PUBLISHED-TTL:PT1H
BEGIN:VTIMEZONE
TZID:Europe/Berlin
BEGIN:DAYLIGHT
TZOFFSETFROM:+0100
TZOFFSETTO:+0200
TZNAME:CEST
DTSTART:20240331T010000
END:DAYLIGHT
BEGIN:STANDARD
TZOFFSETFROM:+0200
TZOFFSETTO:+0100
TZNAME:CET
DTSTART:20241027T010000
END:STANDARD
BEGIN:DAYLIGHT
TZOFFSETFROM:+0100
TZOFFSETTO:+0200
TZNAME:CEST
DTSTART:20250330T010000
END:DAYLIGHT
BEGIN:STANDARD
TZOFFSETFROM:+0200
TZOFFSETTO:+0100
TZNAME:CET
DTSTART:20251026T010000
END:STANDARD
BEGIN:DAYLIGHT
TZOFFSETFROM:+0100
TZOFFSETTO:+0200
TZNAME:CEST
DTSTART:20260329T010000
END:DAYLIGHT
BEGIN:STANDARD
TZOFFSETFROM:+0200
TZOFFSETTO:+0100
TZNAME:CET
DTSTART:20261025T010000
END:STANDARD
END:VTIMEZONE
BEGIN:VEVENT
DTSTART;TZID=Europe/Berlin:20250606T150000
DTEND;TZID=Europe/Berlin:20250606T170000
DTSTAMP:20260424T174716
CREATED:20250426T201705Z
LAST-MODIFIED:20250521T191503Z
UID:2245-1749222000-1749229200@die-gartenfreunde-ehningen.de
SUMMARY:Gartenbegehung
DESCRIPTION:Gartenbegehung am 06.06.2025\nLiebe Gartenfreunde. \nAm Freitag\, den 06.06.2025 ab 15:00 Uhr starten wir im Ostteil der Anlage ab Parzelle 35-55 mit der Gartenbegehung. \nDanach Westteil von Parzelle 1-31. \nWir würden uns freuen viele Pächterinnen und Pächter in ihren Parzellen antreffen zu können. \n  \nVorstand Gartenfreunde Ehningen e.V.
URL:https://die-gartenfreunde-ehningen.de/event/gartenbegehung-4/
LOCATION:Vereinsheim der Gartenfreunde\, Hinteres Tal 1\, Ehningen\, 71139\, Deutschland
CATEGORIES:Gartenbegehung
END:VEVENT
BEGIN:VEVENT
DTSTART;TZID=Europe/Berlin:20250614T080000
DTEND;TZID=Europe/Berlin:20250614T120000
DTSTAMP:20260424T174716
CREATED:20250215T170527Z
LAST-MODIFIED:20250521T191114Z
UID:2115-1749888000-1749902400@die-gartenfreunde-ehningen.de
SUMMARY:Gemeinschaftsarbeit
DESCRIPTION:Arbeitseinsatz / Gemeinschaftsarbeit \n  \nLiebe Pächter und Pächterinnen \nDie nächste Gemeinschaftsarbeit findet am 14 Juni um 8:00 Uhr statt. \nBei Ausfall durch schlechtes Wetter verschiebt sich die Gemeinschaftsarbeit auf den 21 Juni 8:00 Uhr \nAnmeldung beim Obmann Karl Kaiser. Tel:017678543929 \nBitte erst ab 7 Juni 2025 beim Karl melden da der vorher im Urlaub ist. \n  \nDer Vorstand der Gartenfreunde Ehningen e.V.
URL:https://die-gartenfreunde-ehningen.de/event/gemeinschaftsarbeit-18/
LOCATION:Vereinsheim der Gartenfreunde\, Hinteres Tal 1\, Ehningen\, 71139\, Deutschland
CATEGORIES:Gemeinschaftsarbeit
END:VEVENT
END:VCALENDAR