BEGIN:VCALENDAR
VERSION:2.0
PRODID:-//Gartenfreunde Ehningen e.V. - ECPv6.15.20//NONSGML v1.0//EN
CALSCALE:GREGORIAN
METHOD:PUBLISH
X-WR-CALNAME:Gartenfreunde Ehningen e.V.
X-ORIGINAL-URL:https://die-gartenfreunde-ehningen.de
X-WR-CALDESC:Veranstaltungen für Gartenfreunde Ehningen e.V.
REFRESH-INTERVAL;VALUE=DURATION:PT1H
X-Robots-Tag:noindex
X-PUBLISHED-TTL:PT1H
BEGIN:VTIMEZONE
TZID:Europe/Berlin
BEGIN:DAYLIGHT
TZOFFSETFROM:+0100
TZOFFSETTO:+0200
TZNAME:CEST
DTSTART:20240331T010000
END:DAYLIGHT
BEGIN:STANDARD
TZOFFSETFROM:+0200
TZOFFSETTO:+0100
TZNAME:CET
DTSTART:20241027T010000
END:STANDARD
BEGIN:DAYLIGHT
TZOFFSETFROM:+0100
TZOFFSETTO:+0200
TZNAME:CEST
DTSTART:20250330T010000
END:DAYLIGHT
BEGIN:STANDARD
TZOFFSETFROM:+0200
TZOFFSETTO:+0100
TZNAME:CET
DTSTART:20251026T010000
END:STANDARD
BEGIN:DAYLIGHT
TZOFFSETFROM:+0100
TZOFFSETTO:+0200
TZNAME:CEST
DTSTART:20260329T010000
END:DAYLIGHT
BEGIN:STANDARD
TZOFFSETFROM:+0200
TZOFFSETTO:+0100
TZNAME:CET
DTSTART:20261025T010000
END:STANDARD
END:VTIMEZONE
BEGIN:VEVENT
DTSTART;TZID=Europe/Berlin:20250405T080000
DTEND;TZID=Europe/Berlin:20250405T120000
DTSTAMP:20260424T223818
CREATED:20250215T170416Z
LAST-MODIFIED:20250330T090515Z
UID:2111-1743840000-1743854400@die-gartenfreunde-ehningen.de
SUMMARY:Gemeinschaftsarbeit
DESCRIPTION:Liebe Pächterinnen und Pächter\, \ndie nächste Gemeinschaftsarbeit findet am Samstag 5. April um 8:00 Uhr statt. \nBei Schlechtwetter wird die Gemeinschaftsarbeit verschoben. \nAnmeldung erforderlich bei Obmann Karl Kaiser (0176 78 54 39 29)
URL:https://die-gartenfreunde-ehningen.de/event/gemeinschaftsarbeit-16/
LOCATION:Vereinsheim der Gartenfreunde\, Hinteres Tal 1\, Ehningen\, 71139\, Deutschland
CATEGORIES:Gemeinschaftsarbeit
END:VEVENT
END:VCALENDAR