BEGIN:VCALENDAR
VERSION:2.0
PRODID:-//Gartenfreunde Ehningen e.V. - ECPv6.15.20//NONSGML v1.0//EN
CALSCALE:GREGORIAN
METHOD:PUBLISH
X-ORIGINAL-URL:https://die-gartenfreunde-ehningen.de
X-WR-CALDESC:Veranstaltungen für Gartenfreunde Ehningen e.V.
REFRESH-INTERVAL;VALUE=DURATION:PT1H
X-Robots-Tag:noindex
X-PUBLISHED-TTL:PT1H
BEGIN:VTIMEZONE
TZID:Europe/Berlin
BEGIN:DAYLIGHT
TZOFFSETFROM:+0100
TZOFFSETTO:+0200
TZNAME:CEST
DTSTART:20240331T010000
END:DAYLIGHT
BEGIN:STANDARD
TZOFFSETFROM:+0200
TZOFFSETTO:+0100
TZNAME:CET
DTSTART:20241027T010000
END:STANDARD
BEGIN:DAYLIGHT
TZOFFSETFROM:+0100
TZOFFSETTO:+0200
TZNAME:CEST
DTSTART:20250330T010000
END:DAYLIGHT
BEGIN:STANDARD
TZOFFSETFROM:+0200
TZOFFSETTO:+0100
TZNAME:CET
DTSTART:20251026T010000
END:STANDARD
BEGIN:DAYLIGHT
TZOFFSETFROM:+0100
TZOFFSETTO:+0200
TZNAME:CEST
DTSTART:20260329T010000
END:DAYLIGHT
BEGIN:STANDARD
TZOFFSETFROM:+0200
TZOFFSETTO:+0100
TZNAME:CET
DTSTART:20261025T010000
END:STANDARD
END:VTIMEZONE
BEGIN:VEVENT
DTSTART;TZID=Europe/Berlin:20250308T080000
DTEND;TZID=Europe/Berlin:20250308T120000
DTSTAMP:20260425T001630
CREATED:20250310T205739Z
LAST-MODIFIED:20250310T205739Z
UID:2143-1741420800-1741435200@die-gartenfreunde-ehningen.de
SUMMARY:Gemeinde Putzete
DESCRIPTION:
URL:https://die-gartenfreunde-ehningen.de/event/gemeinde-putzete/
CATEGORIES:Gemeinschaftsarbeit
END:VEVENT
BEGIN:VEVENT
DTSTART;TZID=Europe/Berlin:20250322T150000
DTEND;TZID=Europe/Berlin:20250322T170000
DTSTAMP:20260425T001630
CREATED:20241113T213116Z
LAST-MODIFIED:20250228T183145Z
UID:2075-1742655600-1742662800@die-gartenfreunde-ehningen.de
SUMMARY:Mitglieder Versammlung
DESCRIPTION:Liebe Gartenfreundinnen und Gartenfreunde \nZu unserer diesjährigen Mitgliederversammlung am Samstag\, den 22.03.2025 um 15:00 Uhr in der Gässlesstube\, Schulstr.8 in 71139 Ehningen laden wir Euch herzlich ein. \nTagesordnung: \n\nTop.1-Begrüßung\nTop.2-Eröffnung und Feststellung der ordnungsgemäßen Einladung\nTop.3-Feststellung der Beschlussfähigkeit und Genehmigung der Tagesordnung\nTop.4-Totenehrung\nTop.5-Grußwort Gast Gemeinde Ehningen\nTop.6-Berichte: 1.Vorsitzene\, Schatzmeisterin\, Kassenprüfer\nTop.7-Aussprache über die Berichte\nTop.8-Entlastung des Vorstands\, Grußworte Gast Bezirksverband Böblingen\nTop.9-Etatplanung und Genehmigung des Haushaltsplans\nTop.10-Wahlen: Stellvertretende/r Vorsitzende/r\, Schatzmeister/in\, Schriftführer/in\, 2 Revisoren\, Stellvertretende Revisorin\nTop.11-Ehrungen\nTop.12-Beschlüsse: Neue Satzung 2026\, Mitgliedsbeitragserhöhung 5€ ab 2026\nTop.13-Termine\nTop.14-Schlusswort\n\nAnträge zur Tagesordnung müssen eine Woche vor der Versammlung schriftlich beim Vorstand Klara Klein\, Donaustr. 29 eingegangen sein. \nVorstand Gartenfreunde Ehningen e.V.
URL:https://die-gartenfreunde-ehningen.de/event/mitglieder-versammlung/
LOCATION:Gässlesstube Ehningen\, Gässlesstube im Haus am Pfarrgarten\, Ehningen\, 71139\, Germany
CATEGORIES:Versammlung
END:VEVENT
END:VCALENDAR