BEGIN:VCALENDAR
VERSION:2.0
PRODID:-//Gartenfreunde Ehningen e.V. - ECPv6.15.20//NONSGML v1.0//EN
CALSCALE:GREGORIAN
METHOD:PUBLISH
X-ORIGINAL-URL:https://die-gartenfreunde-ehningen.de
X-WR-CALDESC:Veranstaltungen für Gartenfreunde Ehningen e.V.
REFRESH-INTERVAL;VALUE=DURATION:PT1H
X-Robots-Tag:noindex
X-PUBLISHED-TTL:PT1H
BEGIN:VTIMEZONE
TZID:Europe/Berlin
BEGIN:DAYLIGHT
TZOFFSETFROM:+0100
TZOFFSETTO:+0200
TZNAME:CEST
DTSTART:20230326T010000
END:DAYLIGHT
BEGIN:STANDARD
TZOFFSETFROM:+0200
TZOFFSETTO:+0100
TZNAME:CET
DTSTART:20231029T010000
END:STANDARD
BEGIN:DAYLIGHT
TZOFFSETFROM:+0100
TZOFFSETTO:+0200
TZNAME:CEST
DTSTART:20240331T010000
END:DAYLIGHT
BEGIN:STANDARD
TZOFFSETFROM:+0200
TZOFFSETTO:+0100
TZNAME:CET
DTSTART:20241027T010000
END:STANDARD
BEGIN:DAYLIGHT
TZOFFSETFROM:+0100
TZOFFSETTO:+0200
TZNAME:CEST
DTSTART:20250330T010000
END:DAYLIGHT
BEGIN:STANDARD
TZOFFSETFROM:+0200
TZOFFSETTO:+0100
TZNAME:CET
DTSTART:20251026T010000
END:STANDARD
END:VTIMEZONE
BEGIN:VEVENT
DTSTART;TZID=Europe/Berlin:20240403T130000
DTEND;TZID=Europe/Berlin:20240403T180000
DTSTAMP:20260423T142820
CREATED:20231112T165515Z
LAST-MODIFIED:20231112T165515Z
UID:1615-1712149200-1712167200@die-gartenfreunde-ehningen.de
SUMMARY:BegegnungsKaffee
DESCRIPTION:Begegnungs Kaffee Die Termine sind am Mittwoch von 13.00-18.00 Uhr \nAm Tag davor werden die Tische und Stühle gerichtet von 18:00-19:00 Uhr.
URL:https://die-gartenfreunde-ehningen.de/event/begegnungskaffee/
LOCATION:Begegnungsstätte\, Bühlallee 11\, Ehningen
CATEGORIES:Kaffee
END:VEVENT
BEGIN:VEVENT
DTSTART;TZID=Europe/Berlin:20240406T080000
DTEND;TZID=Europe/Berlin:20240406T120000
DTSTAMP:20260423T142820
CREATED:20231112T164715Z
LAST-MODIFIED:20240410T124525Z
UID:1602-1712390400-1712404800@die-gartenfreunde-ehningen.de
SUMMARY:ABGESAGT! Gemeinschaftsarbeit
DESCRIPTION:Details folgen kurz vor dem Termin
URL:https://die-gartenfreunde-ehningen.de/event/gemeinschaftsarbeit-8/
LOCATION:Vereinsheim der Gartenfreunde\, Hinteres Tal 1\, Ehningen\, 71139\, Deutschland
CATEGORIES:Gemeinschaftsarbeit
END:VEVENT
BEGIN:VEVENT
DTSTART;TZID=Europe/Berlin:20240413T080000
DTEND;TZID=Europe/Berlin:20240413T120000
DTSTAMP:20260423T142820
CREATED:20240410T124630Z
LAST-MODIFIED:20240410T124630Z
UID:1755-1712995200-1713009600@die-gartenfreunde-ehningen.de
SUMMARY:Gemeinschaftsarbeit
DESCRIPTION:Liebe Pächter und Pächterinnen \nDie nächste Gemeinschaftsarbeit findet am: \n13.April um 8:00 Uhr statt. \nAnmeldung beim Obmann Karl Kaiser. \nTel:017678543929 \nDer Vorstand der Gartenfreunde Ehningen e.V.
URL:https://die-gartenfreunde-ehningen.de/event/gemeinschaftsarbeit-13/
LOCATION:Vereinsheim der Gartenfreunde\, Hinteres Tal 1\, Ehningen\, 71139\, Deutschland
CATEGORIES:Gemeinschaftsarbeit
END:VEVENT
END:VCALENDAR