BEGIN:VCALENDAR
VERSION:2.0
PRODID:-//Gartenfreunde Ehningen e.V. - ECPv6.15.20//NONSGML v1.0//EN
CALSCALE:GREGORIAN
METHOD:PUBLISH
X-ORIGINAL-URL:https://die-gartenfreunde-ehningen.de
X-WR-CALDESC:Veranstaltungen für Gartenfreunde Ehningen e.V.
REFRESH-INTERVAL;VALUE=DURATION:PT1H
X-Robots-Tag:noindex
X-PUBLISHED-TTL:PT1H
BEGIN:VTIMEZONE
TZID:Europe/Berlin
BEGIN:DAYLIGHT
TZOFFSETFROM:+0100
TZOFFSETTO:+0200
TZNAME:CEST
DTSTART:20230326T010000
END:DAYLIGHT
BEGIN:STANDARD
TZOFFSETFROM:+0200
TZOFFSETTO:+0100
TZNAME:CET
DTSTART:20231029T010000
END:STANDARD
BEGIN:DAYLIGHT
TZOFFSETFROM:+0100
TZOFFSETTO:+0200
TZNAME:CEST
DTSTART:20240331T010000
END:DAYLIGHT
BEGIN:STANDARD
TZOFFSETFROM:+0200
TZOFFSETTO:+0100
TZNAME:CET
DTSTART:20241027T010000
END:STANDARD
BEGIN:DAYLIGHT
TZOFFSETFROM:+0100
TZOFFSETTO:+0200
TZNAME:CEST
DTSTART:20250330T010000
END:DAYLIGHT
BEGIN:STANDARD
TZOFFSETFROM:+0200
TZOFFSETTO:+0100
TZNAME:CET
DTSTART:20251026T010000
END:STANDARD
END:VTIMEZONE
BEGIN:VEVENT
DTSTART;TZID=Europe/Berlin:20240203T150000
DTEND;TZID=Europe/Berlin:20240203T170000
DTSTAMP:20260423T111838
CREATED:20231112T165912Z
LAST-MODIFIED:20231112T165912Z
UID:1623-1706972400-1706979600@die-gartenfreunde-ehningen.de
SUMMARY:Pächterversammlung
DESCRIPTION:Weitere Details folgen in Kürze.
URL:https://die-gartenfreunde-ehningen.de/event/paechterversammlung-3/
LOCATION:Vereinsheim der Gartenfreunde\, Hinteres Tal 1\, Ehningen\, 71139\, Deutschland
CATEGORIES:Versammlung
END:VEVENT
BEGIN:VEVENT
DTSTART;TZID=Europe/Berlin:20240207T130000
DTEND;TZID=Europe/Berlin:20240207T180000
DTSTAMP:20260423T111838
CREATED:20231112T165618Z
LAST-MODIFIED:20231112T165618Z
UID:1617-1707310800-1707328800@die-gartenfreunde-ehningen.de
SUMMARY:BegegnungsKaffee
DESCRIPTION:Begegnungs Kaffee Die Termine sind am Mittwoch von 13.00-18.00 Uhr \nAm Tag davor werden die Tische und Stühle gerichtet von 18:00-19:00 Uhr.
URL:https://die-gartenfreunde-ehningen.de/event/begegnungskaffee-2/
LOCATION:Begegnungsstätte\, Bühlallee 11\, Ehningen
CATEGORIES:Kaffee
END:VEVENT
END:VCALENDAR