BEGIN:VCALENDAR
VERSION:2.0
PRODID:-//Gartenfreunde Ehningen e.V. - ECPv6.15.20//NONSGML v1.0//EN
CALSCALE:GREGORIAN
METHOD:PUBLISH
X-ORIGINAL-URL:https://die-gartenfreunde-ehningen.de
X-WR-CALDESC:Veranstaltungen für Gartenfreunde Ehningen e.V.
REFRESH-INTERVAL;VALUE=DURATION:PT1H
X-Robots-Tag:noindex
X-PUBLISHED-TTL:PT1H
BEGIN:VTIMEZONE
TZID:Europe/Berlin
BEGIN:DAYLIGHT
TZOFFSETFROM:+0100
TZOFFSETTO:+0200
TZNAME:CEST
DTSTART:20220327T010000
END:DAYLIGHT
BEGIN:STANDARD
TZOFFSETFROM:+0200
TZOFFSETTO:+0100
TZNAME:CET
DTSTART:20221030T010000
END:STANDARD
BEGIN:DAYLIGHT
TZOFFSETFROM:+0100
TZOFFSETTO:+0200
TZNAME:CEST
DTSTART:20230326T010000
END:DAYLIGHT
BEGIN:STANDARD
TZOFFSETFROM:+0200
TZOFFSETTO:+0100
TZNAME:CET
DTSTART:20231029T010000
END:STANDARD
BEGIN:DAYLIGHT
TZOFFSETFROM:+0100
TZOFFSETTO:+0200
TZNAME:CEST
DTSTART:20240331T010000
END:DAYLIGHT
BEGIN:STANDARD
TZOFFSETFROM:+0200
TZOFFSETTO:+0100
TZNAME:CET
DTSTART:20241027T010000
END:STANDARD
END:VTIMEZONE
BEGIN:VEVENT
DTSTART;TZID=Europe/Berlin:20231004T130000
DTEND;TZID=Europe/Berlin:20231004T180000
DTSTAMP:20260421T141003
CREATED:20221229T103120Z
LAST-MODIFIED:20230120T064249Z
UID:1302-1696424400-1696442400@die-gartenfreunde-ehningen.de
SUMMARY:Begegnungs Kaffee
DESCRIPTION:Begegnungs Kaffee Die Termine sind am Mittwoch von 13.00-18.00 Uhr \nAm Tag davor werden die Tische und Stühle gerichtet von 18:00-19:00 Uhr.
URL:https://die-gartenfreunde-ehningen.de/event/begegnungs-kaffee-4/
LOCATION:Begegnungsstätte\, Bühlallee 11\, Ehningen
CATEGORIES:Kaffee
END:VEVENT
BEGIN:VEVENT
DTSTART;TZID=Europe/Berlin:20231014T080000
DTEND;TZID=Europe/Berlin:20231014T120000
DTSTAMP:20260421T141003
CREATED:20231009T201004Z
LAST-MODIFIED:20231009T201004Z
UID:1591-1697270400-1697284800@die-gartenfreunde-ehningen.de
SUMMARY:Gemeinschaftsarbeit
DESCRIPTION:Liebe Pächter und Pächterinnen\n\n\n\nDie nächste Gemeinschaftsarbeit findet am:\n\n\n\n14. Oktober 2023 um 8:00 Uhr.\n\n\n\nAnmeldung beim Obmann Karl Kaiser.\n\n\n\nTel: 017678543929\n\n\n\nDer Vorstand der Gartenfreunde Ehningen e.V
URL:https://die-gartenfreunde-ehningen.de/event/gemeinschaftsarbeit-7/
LOCATION:Vereinsheim der Gartenfreunde\, Hinteres Tal 1\, Ehningen\, 71139\, Deutschland
CATEGORIES:Gemeinschaftsarbeit
END:VEVENT
BEGIN:VEVENT
DTSTART;TZID=Europe/Berlin:20231014T100000
DTEND;TZID=Europe/Berlin:20231014T130000
DTSTAMP:20260421T141003
CREATED:20230919T181221Z
LAST-MODIFIED:20230919T181221Z
UID:1574-1697277600-1697288400@die-gartenfreunde-ehningen.de
SUMMARY:Pflanzen- und Gartenbörse
DESCRIPTION:Im Herbst wird im Garten geteilt\, aussortiert\, aber auch neu gepflanzt. Tauschen Sie Ihren „Pflanzen-Überschuss“ und Ihre Erfahrungen gegen neue Gartenschätze wie Stauden\, Kräuter\, Klein-Gehölze\, Hell- und Wildpflanzen\, Samen\, … ein! \n 
URL:https://die-gartenfreunde-ehningen.de/event/pflanzen-und-gartenboerse/
LOCATION:Gemeinschaftsgarten an der Fronäcker-Schule in Ehningen\, Gartenstrasse 11\, Ehningen\, 71139\, Deutschland
CATEGORIES:Tauschbörse
ATTACH;FMTTYPE=image/jpeg:https://die-gartenfreunde-ehningen.de/wp-content/uploads/2023/09/Pflanzenboerse-2023.jpg
END:VEVENT
BEGIN:VEVENT
DTSTART;TZID=Europe/Berlin:20231021T150000
DTEND;TZID=Europe/Berlin:20231021T210000
DTSTAMP:20260421T141003
CREATED:20230402T152403Z
LAST-MODIFIED:20230402T152403Z
UID:1424-1697900400-1697922000@die-gartenfreunde-ehningen.de
SUMMARY:Gartenfreunde Seniorenfeier
DESCRIPTION:Seniorenfeier am Sa.\, 21.10.2023 15 Uhr im Vereinsheim der Gartenfreunde
URL:https://die-gartenfreunde-ehningen.de/event/gartenfreunde-seniorenfeier/
LOCATION:Vereinsheim der Gartenfreunde\, Hinteres Tal 1\, Ehningen\, 71139\, Deutschland
CATEGORIES:Feier
END:VEVENT
END:VCALENDAR