BEGIN:VCALENDAR
VERSION:2.0
PRODID:-//Gartenfreunde Ehningen e.V. - ECPv6.15.20//NONSGML v1.0//EN
CALSCALE:GREGORIAN
METHOD:PUBLISH
X-WR-CALNAME:Gartenfreunde Ehningen e.V.
X-ORIGINAL-URL:https://die-gartenfreunde-ehningen.de
X-WR-CALDESC:Veranstaltungen für Gartenfreunde Ehningen e.V.
REFRESH-INTERVAL;VALUE=DURATION:PT1H
X-Robots-Tag:noindex
X-PUBLISHED-TTL:PT1H
BEGIN:VTIMEZONE
TZID:Europe/Berlin
BEGIN:DAYLIGHT
TZOFFSETFROM:+0100
TZOFFSETTO:+0200
TZNAME:CEST
DTSTART:20220327T010000
END:DAYLIGHT
BEGIN:STANDARD
TZOFFSETFROM:+0200
TZOFFSETTO:+0100
TZNAME:CET
DTSTART:20221030T010000
END:STANDARD
BEGIN:DAYLIGHT
TZOFFSETFROM:+0100
TZOFFSETTO:+0200
TZNAME:CEST
DTSTART:20230326T010000
END:DAYLIGHT
BEGIN:STANDARD
TZOFFSETFROM:+0200
TZOFFSETTO:+0100
TZNAME:CET
DTSTART:20231029T010000
END:STANDARD
BEGIN:DAYLIGHT
TZOFFSETFROM:+0100
TZOFFSETTO:+0200
TZNAME:CEST
DTSTART:20240331T010000
END:DAYLIGHT
BEGIN:STANDARD
TZOFFSETFROM:+0200
TZOFFSETTO:+0100
TZNAME:CET
DTSTART:20241027T010000
END:STANDARD
END:VTIMEZONE
BEGIN:VEVENT
DTSTART;TZID=Europe/Berlin:20230916T090000
DTEND;TZID=Europe/Berlin:20230916T120000
DTSTAMP:20260421T155955
CREATED:20230827T173303Z
LAST-MODIFIED:20230827T173303Z
UID:1566-1694854800-1694865600@die-gartenfreunde-ehningen.de
SUMMARY:CleanUp Day\, wir machen mit!
DESCRIPTION:Unser Treffen und die Beteiligung an der CleanUp Day Aktion findet am 16.09.2023 um 9.00 Uhr statt. \nWeitere Informationen werden in den kommenden Tagen an den Tafeln im Gartenbereich ausgehängt. Die Teilnehmer erhalten jeweils 3 Stunden Gemeinschaftsarbeit. \nDer World Cleanup Day ist eine weltweite Kampagne. Mehr dazu hier: https://worldcleanupday.de/
URL:https://die-gartenfreunde-ehningen.de/event/cleanup-day-wir-machen-mit/
LOCATION:Vereinsheim der Gartenfreunde\, Hinteres Tal 1\, Ehningen\, 71139\, Deutschland
CATEGORIES:Gemeinschaftsarbeit
END:VEVENT
END:VCALENDAR