BEGIN:VCALENDAR
VERSION:2.0
PRODID:-//Gartenfreunde Ehningen e.V. - ECPv6.15.20//NONSGML v1.0//EN
CALSCALE:GREGORIAN
METHOD:PUBLISH
X-ORIGINAL-URL:https://die-gartenfreunde-ehningen.de
X-WR-CALDESC:Veranstaltungen für Gartenfreunde Ehningen e.V.
REFRESH-INTERVAL;VALUE=DURATION:PT1H
X-Robots-Tag:noindex
X-PUBLISHED-TTL:PT1H
BEGIN:VTIMEZONE
TZID:Europe/Berlin
BEGIN:DAYLIGHT
TZOFFSETFROM:+0100
TZOFFSETTO:+0200
TZNAME:CEST
DTSTART:20220327T010000
END:DAYLIGHT
BEGIN:STANDARD
TZOFFSETFROM:+0200
TZOFFSETTO:+0100
TZNAME:CET
DTSTART:20221030T010000
END:STANDARD
BEGIN:DAYLIGHT
TZOFFSETFROM:+0100
TZOFFSETTO:+0200
TZNAME:CEST
DTSTART:20230326T010000
END:DAYLIGHT
BEGIN:STANDARD
TZOFFSETFROM:+0200
TZOFFSETTO:+0100
TZNAME:CET
DTSTART:20231029T010000
END:STANDARD
BEGIN:DAYLIGHT
TZOFFSETFROM:+0100
TZOFFSETTO:+0200
TZNAME:CEST
DTSTART:20240331T010000
END:DAYLIGHT
BEGIN:STANDARD
TZOFFSETFROM:+0200
TZOFFSETTO:+0100
TZNAME:CET
DTSTART:20241027T010000
END:STANDARD
END:VTIMEZONE
BEGIN:VEVENT
DTSTART;TZID=Europe/Berlin:20230503T130000
DTEND;TZID=Europe/Berlin:20230503T180000
DTSTAMP:20260422T003124
CREATED:20221229T102930Z
LAST-MODIFIED:20230120T064431Z
UID:1298-1683118800-1683136800@die-gartenfreunde-ehningen.de
SUMMARY:Begegnungs Kaffee
DESCRIPTION:Begegnungs Kaffee Die Termine sind am Mittwoch von 13.00-18.00 Uhr \nAm Tag davor werden die Tische und Stühle gerichtet von 18:00-19:00 Uhr.
URL:https://die-gartenfreunde-ehningen.de/event/begegnungs-kaffee-2/
LOCATION:Begegnungsstätte\, Bühlallee 11\, Ehningen
CATEGORIES:Kaffee
END:VEVENT
BEGIN:VEVENT
DTSTART;TZID=Europe/Berlin:20230506T080000
DTEND;TZID=Europe/Berlin:20230506T120000
DTSTAMP:20260422T003124
CREATED:20230430T062423Z
LAST-MODIFIED:20230430T062423Z
UID:1450-1683360000-1683374400@die-gartenfreunde-ehningen.de
SUMMARY:Gemeinschaftsarbeit
DESCRIPTION:Liebe Pächter und Pächterinnen \n\n\n\nDie nächste Gemeinschaftsarbeit findet am: \n\n\n\n06. Mai um 8:00 Uhr statt. \n\n\n\nBei Ausfall durch schlechtes Wetter verschiebt sich die Gemeinschaftsarbeit auf den: \n\n\n\n13. Mai 2023 um 8:00 Uhr. \n\n\n\nAnmeldung beim Obmann Karl Kaiser. \n\n\n\nTel: 017678543929 \n\n\n\nDer Vorstand der Gartenfreunde Ehningen e.V
URL:https://die-gartenfreunde-ehningen.de/event/gemeinschaftsarbeit-5/
LOCATION:Vereinsheim der Gartenfreunde\, Hinteres Tal 1\, Ehningen\, 71139\, Deutschland
CATEGORIES:Gemeinschaftsarbeit
END:VEVENT
BEGIN:VEVENT
DTSTART;TZID=Europe/Berlin:20230513T080000
DTEND;TZID=Europe/Berlin:20230513T120000
DTSTAMP:20260422T003124
CREATED:20230430T062636Z
LAST-MODIFIED:20230511T194257Z
UID:1453-1683964800-1683979200@die-gartenfreunde-ehningen.de
SUMMARY:Gemeinschaftsarbeit
DESCRIPTION:Liebe Pächter und Pächterinnen \n\n\n\nDie nächste Gemeinschaftsarbeit findet am: \n\n\n\n\n\n13. Mai 2023 um 8:00 Uhr. \n\n\n\nAnmeldung beim Obmann Karl Kaiser. \n\n\n\nTel: 017678543929 \n\n\n\nDer Vorstand der Gartenfreunde Ehningen e.V
URL:https://die-gartenfreunde-ehningen.de/event/ausweichtermin-gemeinschaftsarbeit/
LOCATION:Vereinsheim der Gartenfreunde\, Hinteres Tal 1\, Ehningen\, 71139\, Deutschland
CATEGORIES:Gemeinschaftsarbeit
END:VEVENT
BEGIN:VEVENT
DTSTART;TZID=Europe/Berlin:20230518T103000
DTEND;TZID=Europe/Berlin:20230518T170000
DTSTAMP:20260422T003124
CREATED:20230509T194509Z
LAST-MODIFIED:20230509T194509Z
UID:1475-1684405800-1684429200@die-gartenfreunde-ehningen.de
SUMMARY:Vatertagshocketse
DESCRIPTION:
URL:https://die-gartenfreunde-ehningen.de/event/vatertagshocketse/
LOCATION:Vereinsheim der Gartenfreunde\, Hinteres Tal 1\, Ehningen\, 71139\, Deutschland
CATEGORIES:Feier
END:VEVENT
BEGIN:VEVENT
DTSTART;TZID=Europe/Berlin:20230526T150000
DTEND;TZID=Europe/Berlin:20230526T180000
DTSTAMP:20260422T003124
CREATED:20230402T150851Z
LAST-MODIFIED:20230525T195930Z
UID:1412-1685113200-1685124000@die-gartenfreunde-ehningen.de
SUMMARY:Gartenbegehung 2023
DESCRIPTION:Liebe Gartenfreundinnen und Gartenfreunde. \nAm Freitag\, den 26.05.2023 ab 15:00 Uhr findet der Gartenbegehung statt. \nWir würden uns freuen viele Pächterinnen und Pächter in euren Parzellen antreffen zu können. \nVorstand Gartenfreunde Ehningen e.V.
URL:https://die-gartenfreunde-ehningen.de/event/gartenbegehung-2023/
CATEGORIES:Gartenbegehung
END:VEVENT
END:VCALENDAR