BEGIN:VCALENDAR
VERSION:2.0
PRODID:-//Gartenfreunde Ehningen e.V. - ECPv6.15.20//NONSGML v1.0//EN
CALSCALE:GREGORIAN
METHOD:PUBLISH
X-ORIGINAL-URL:https://die-gartenfreunde-ehningen.de
X-WR-CALDESC:Veranstaltungen für Gartenfreunde Ehningen e.V.
REFRESH-INTERVAL;VALUE=DURATION:PT1H
X-Robots-Tag:noindex
X-PUBLISHED-TTL:PT1H
BEGIN:VTIMEZONE
TZID:Europe/Berlin
BEGIN:DAYLIGHT
TZOFFSETFROM:+0100
TZOFFSETTO:+0200
TZNAME:CEST
DTSTART:20220327T010000
END:DAYLIGHT
BEGIN:STANDARD
TZOFFSETFROM:+0200
TZOFFSETTO:+0100
TZNAME:CET
DTSTART:20221030T010000
END:STANDARD
BEGIN:DAYLIGHT
TZOFFSETFROM:+0100
TZOFFSETTO:+0200
TZNAME:CEST
DTSTART:20230326T010000
END:DAYLIGHT
BEGIN:STANDARD
TZOFFSETFROM:+0200
TZOFFSETTO:+0100
TZNAME:CET
DTSTART:20231029T010000
END:STANDARD
BEGIN:DAYLIGHT
TZOFFSETFROM:+0100
TZOFFSETTO:+0200
TZNAME:CEST
DTSTART:20240331T010000
END:DAYLIGHT
BEGIN:STANDARD
TZOFFSETFROM:+0200
TZOFFSETTO:+0100
TZNAME:CET
DTSTART:20241027T010000
END:STANDARD
END:VTIMEZONE
BEGIN:VEVENT
DTSTART;TZID=Europe/Berlin:20230401T080000
DTEND;TZID=Europe/Berlin:20230401T120000
DTSTAMP:20260422T022319
CREATED:20230402T152925Z
LAST-MODIFIED:20230402T152925Z
UID:1428-1680336000-1680350400@die-gartenfreunde-ehningen.de
SUMMARY:Gemeinschaftsarbeit
DESCRIPTION:Liebe Pächter und Pächterinnen \nDie nächste Gemeinschaftsarbeit findet am: \n1. April um 8:00 Uhr statt. \nAnmeldung beim Obmann Karl Kaiser. \nDer Vorstand der Gartenfreunde Ehningen e.V.
URL:https://die-gartenfreunde-ehningen.de/event/gemeinschaftsarbeit-4/
CATEGORIES:Gemeinschaftsarbeit
END:VEVENT
BEGIN:VEVENT
DTSTART;TZID=Europe/Berlin:20230416T150000
DTEND;TZID=Europe/Berlin:20230416T163000
DTSTAMP:20260422T022319
CREATED:20230402T151511Z
LAST-MODIFIED:20230402T152027Z
UID:1414-1681657200-1681662600@die-gartenfreunde-ehningen.de
SUMMARY:Veranstaltung "Ernten in der Natur"
DESCRIPTION:Veranstaltung „Ernten in der Natur“ am So.\, 16. April 2023 15-16:30 Uhr \nTeilnahmegebühr frei! Spenden sind willkommen \nBei Teilnahme an der Veranstaltung wird jedem Pächter 1 Stunde Gemeinschaftsarbeit gut geschrieben. \nRund um Ehningen wollen wir uns auf die Suche nach den ersten wilden Frühlingskräutern machen.\nDabei werden wir uns sowohl in Wald als auch auf der Wiese umschauen.\nHeilpraktikerin Barbara Dürrwang von der Naturakademie „Die Wildpflanzenbotschaft“ wird nicht nur die wertvollen Inhaltsstoffe und Verarbeitungsmöglichkeiten erklären\, sondern auch das alte Wissen und die neuesten Forschungsergebnisse vermitteln. Die ein oder andere Geschichte oder Mythe über die Pflanzen werden die Führung auflockern. \nTreffpunkt: \nParkplatz Waldkindergarten Ehningen \nEschbach 9\n71139 Ehningen \n 
URL:https://die-gartenfreunde-ehningen.de/event/veranstaltung-ernten-in-der-natur/
LOCATION:Waldkindergarten Ehningen\, Eschbach 9 \, Ehningen\, 71139
ATTACH;FMTTYPE=image/jpeg:https://die-gartenfreunde-ehningen.de/wp-content/uploads/2023/04/Ernten-in-der-Natur.jpg
END:VEVENT
END:VCALENDAR