BEGIN:VCALENDAR
VERSION:2.0
PRODID:-//Gartenfreunde Ehningen e.V. - ECPv6.15.20//NONSGML v1.0//EN
CALSCALE:GREGORIAN
METHOD:PUBLISH
X-ORIGINAL-URL:https://die-gartenfreunde-ehningen.de
X-WR-CALDESC:Veranstaltungen für Gartenfreunde Ehningen e.V.
REFRESH-INTERVAL;VALUE=DURATION:PT1H
X-Robots-Tag:noindex
X-PUBLISHED-TTL:PT1H
BEGIN:VTIMEZONE
TZID:Europe/Berlin
BEGIN:DAYLIGHT
TZOFFSETFROM:+0100
TZOFFSETTO:+0200
TZNAME:CEST
DTSTART:20220327T010000
END:DAYLIGHT
BEGIN:STANDARD
TZOFFSETFROM:+0200
TZOFFSETTO:+0100
TZNAME:CET
DTSTART:20221030T010000
END:STANDARD
BEGIN:DAYLIGHT
TZOFFSETFROM:+0100
TZOFFSETTO:+0200
TZNAME:CEST
DTSTART:20230326T010000
END:DAYLIGHT
BEGIN:STANDARD
TZOFFSETFROM:+0200
TZOFFSETTO:+0100
TZNAME:CET
DTSTART:20231029T010000
END:STANDARD
BEGIN:DAYLIGHT
TZOFFSETFROM:+0100
TZOFFSETTO:+0200
TZNAME:CEST
DTSTART:20240331T010000
END:DAYLIGHT
BEGIN:STANDARD
TZOFFSETFROM:+0200
TZOFFSETTO:+0100
TZNAME:CET
DTSTART:20241027T010000
END:STANDARD
END:VTIMEZONE
BEGIN:VEVENT
DTSTART;TZID=Europe/Berlin:20230325T160000
DTEND;TZID=Europe/Berlin:20230325T180000
DTSTAMP:20260422T041106
CREATED:20221229T102050Z
LAST-MODIFIED:20230307T205433Z
UID:1292-1679760000-1679767200@die-gartenfreunde-ehningen.de
SUMMARY:Hauptversammlung 25/3
DESCRIPTION:Hauptversammlung. In der Begegnungsstätte. Beginn 16: 00Uhr \nTagesordnung: \n1. Begrüßung. \n2. Eröffnung und Feststellung der ordnungsgemäßen Einladung. \n3. Feststellung der Beschlussfähigkeit und Genehmigung der Tagesordnung. \n4. Totenehrung. \n5. Jahresbericht des Vorstands des abgelaufenen Jahres. \n6. Grußwort Gast Bezirksverband. \n7. Kassenbericht der Schatzmeisterin. \n8. Bericht der Revisoren. \n9. Aussprache über die Berichte. \n10. Entlastung des Vorstands\, Grußwort Gast Gemeinde Ehningen. \n11. Etatplanung und Genehmigung des Haushaltsplans \n12. Wahl 1.Vorsitzender \n13. Delegiertenwahl Bezirksverbandtag 2023 \n14. Ehrungen \n15. Beschluss: Änderung der Höhe des zu leistenden Geldbetrages bei nicht geleisteter Gemeinschaftsarbeit (§17 j) unserer Satzung) \n16.Termine. \n17. Schlusswort des Vorstands. \nAnträge zur Tagesordnung müssen spätestens eine Woche vor der Versammlung 18.03.23 schriftlich beim Vorstand eingegangen sein.
URL:https://die-gartenfreunde-ehningen.de/event/hauptversammlung/
LOCATION:Begegnungsstätte\, Bühlallee 11\, Ehningen
CATEGORIES:Versammlung
END:VEVENT
END:VCALENDAR