BEGIN:VCALENDAR
VERSION:2.0
PRODID:-//Gartenfreunde Ehningen e.V. - ECPv6.15.20//NONSGML v1.0//EN
CALSCALE:GREGORIAN
METHOD:PUBLISH
X-WR-CALNAME:Gartenfreunde Ehningen e.V.
X-ORIGINAL-URL:https://die-gartenfreunde-ehningen.de
X-WR-CALDESC:Veranstaltungen für Gartenfreunde Ehningen e.V.
REFRESH-INTERVAL;VALUE=DURATION:PT1H
X-Robots-Tag:noindex
X-PUBLISHED-TTL:PT1H
BEGIN:VTIMEZONE
TZID:Europe/Berlin
BEGIN:DAYLIGHT
TZOFFSETFROM:+0100
TZOFFSETTO:+0200
TZNAME:CEST
DTSTART:20210328T010000
END:DAYLIGHT
BEGIN:STANDARD
TZOFFSETFROM:+0200
TZOFFSETTO:+0100
TZNAME:CET
DTSTART:20211031T010000
END:STANDARD
BEGIN:DAYLIGHT
TZOFFSETFROM:+0100
TZOFFSETTO:+0200
TZNAME:CEST
DTSTART:20220327T010000
END:DAYLIGHT
BEGIN:STANDARD
TZOFFSETFROM:+0200
TZOFFSETTO:+0100
TZNAME:CET
DTSTART:20221030T010000
END:STANDARD
BEGIN:DAYLIGHT
TZOFFSETFROM:+0100
TZOFFSETTO:+0200
TZNAME:CEST
DTSTART:20230326T010000
END:DAYLIGHT
BEGIN:STANDARD
TZOFFSETFROM:+0200
TZOFFSETTO:+0100
TZNAME:CET
DTSTART:20231029T010000
END:STANDARD
END:VTIMEZONE
BEGIN:VEVENT
DTSTART;TZID=Europe/Berlin:20220705T130000
DTEND;TZID=Europe/Berlin:20221229T180000
DTSTAMP:20260424T155114
CREATED:20221229T103014Z
LAST-MODIFIED:20230120T064539Z
UID:1300-1657026000-1672336800@die-gartenfreunde-ehningen.de
SUMMARY:Begegnungs Kaffee
DESCRIPTION:Begegnungs Kaffee Die Termine sind am Mittwoch von 13.00-18.00 Uhr \nAm Tag davor werden die Tische und Stühle gerichtet von 18:00-19:00 Uhr.
URL:https://die-gartenfreunde-ehningen.de/event/begegnungs-kaffee-3/
LOCATION:Begegnungsstätte\, Bühlallee 11\, Ehningen
CATEGORIES:Kaffee
END:VEVENT
BEGIN:VEVENT
DTSTART;TZID=Europe/Berlin:20221022T100000
DTEND;TZID=Europe/Berlin:20221022T130000
DTSTAMP:20260424T155114
CREATED:20220924T081926Z
LAST-MODIFIED:20221014T203951Z
UID:986-1666432800-1666443600@die-gartenfreunde-ehningen.de
SUMMARY:Pflanzen- und Gartentauschbörse
DESCRIPTION:Am Samstag\, den 22.10.2022\, 10 bis 13 Uhr findet die Pflanzen- und Gartenbörse statt. Neben dem Gemeinschaftsgarten an der Fronäcker-Schule in Ehningen. \nIn Zusammenarbeit der Bürgerbeteiligungsgruppe Aufenthaltsqualität und Grünflächen und der Gartenfreunde Ehningen e.V. \nDa im Herbst im Garten geteilt\, aussortiert\, aber auch neu gepflanzt wird\, können wir unseren „Pflanzen-Überschuss“ und unsere Erfahrungen gegen neue Gartenschätze wie Stauden\, Kräuter\, Klein-Gehölze\, Heil- und Wildpflanzen\, Samen und vieles mehr Tauschen! \nHabt Ihr Gartenwerkzeug\, Deko und saubere Blumen(über)- Töpfe übrig? \nAuch zu groß gewordenen Zimmerpflanzen oder deren Ableger können ein neues Zuhause finden. \nAuf eure Spenden und eure Mitarbeit freuen wir uns. \nBei Fragen bitte an den Vorstand wenden. \n  \n  \n  \n  \nVorstand der Gartenfreunde Ehningen e.V.
URL:https://die-gartenfreunde-ehningen.de/event/pflanzen-und-gartentauschboerse/
LOCATION:Gemeinschaftsgarten an der Fronäcker-Schule in Ehningen\, Gartenstrasse 11\, Ehningen\, 71139\, Deutschland
CATEGORIES:Tauschbörse
ATTACH;FMTTYPE=image/png:https://die-gartenfreunde-ehningen.de/wp-content/uploads/2022/10/Unbenannt.png
END:VEVENT
END:VCALENDAR