BEGIN:VCALENDAR
VERSION:2.0
PRODID:-//Gartenfreunde Ehningen e.V. - ECPv6.15.20//NONSGML v1.0//EN
CALSCALE:GREGORIAN
METHOD:PUBLISH
X-ORIGINAL-URL:https://die-gartenfreunde-ehningen.de
X-WR-CALDESC:Veranstaltungen für Gartenfreunde Ehningen e.V.
REFRESH-INTERVAL;VALUE=DURATION:PT1H
X-Robots-Tag:noindex
X-PUBLISHED-TTL:PT1H
BEGIN:VTIMEZONE
TZID:Europe/Berlin
BEGIN:DAYLIGHT
TZOFFSETFROM:+0100
TZOFFSETTO:+0200
TZNAME:CEST
DTSTART:20250330T010000
END:DAYLIGHT
BEGIN:STANDARD
TZOFFSETFROM:+0200
TZOFFSETTO:+0100
TZNAME:CET
DTSTART:20251026T010000
END:STANDARD
BEGIN:DAYLIGHT
TZOFFSETFROM:+0100
TZOFFSETTO:+0200
TZNAME:CEST
DTSTART:20260329T010000
END:DAYLIGHT
BEGIN:STANDARD
TZOFFSETFROM:+0200
TZOFFSETTO:+0100
TZNAME:CET
DTSTART:20261025T010000
END:STANDARD
BEGIN:DAYLIGHT
TZOFFSETFROM:+0100
TZOFFSETTO:+0200
TZNAME:CEST
DTSTART:20270328T010000
END:DAYLIGHT
BEGIN:STANDARD
TZOFFSETFROM:+0200
TZOFFSETTO:+0100
TZNAME:CET
DTSTART:20271031T010000
END:STANDARD
END:VTIMEZONE
BEGIN:VEVENT
DTSTART;TZID=Europe/Berlin:20260221T150000
DTEND;TZID=Europe/Berlin:20260221T170000
DTSTAMP:20260420T104836
CREATED:20260114T205852Z
LAST-MODIFIED:20260114T205852Z
UID:2780-1771686000-1771693200@die-gartenfreunde-ehningen.de
SUMMARY:Pächterversammlung
DESCRIPTION:Liebe Gartenfreundinnen\nLiebe Gartenfreunde\n\nZu unserer diesjährigen Pächterversammlung am Samstag\, den 21.02.2026.\nUm 15 Uhr in der Gässlesstube\, Schulstr.8 in 71139 Ehningen\, laden wir Euch herzlich ein.\n\nAnträge zur Tagesordnung müssen spätestens 1 Woche vor Beginn der Versammlung schriftlich beim Vorstand Klara Klein\, Donaustr. 29\, 71139 Ehningen\, eingegangen sein.\n\nMit freundlichen Grüßen\n\nVorstand Gartenfreunde Ehningen e.V.
URL:https://die-gartenfreunde-ehningen.de/event/paechterversammlung-4/
LOCATION:Gässlesstube Ehningen\, Gässlesstube im Haus am Pfarrgarten\, Ehningen\, 71139\, Germany
CATEGORIES:Versammlung
END:VEVENT
END:VCALENDAR